BEGIN:VCALENDAR
VERSION:2.0
PRODID: -//CMS 5.0 //NONSGML //DE
BEGIN:VEVENT
SUMMARY:Gottesdienst
DESCRIPTION:\n\n\n\nhttp://berlin-hermsdorf.nak-nordost.de/db/594432
UID:594432@berlin-hermsdorf.nak-nordost.de
LOCATION:
CATEGORIES:Gottesdienst
X-ORGANIZER:
STATUS:CONFIRMED
CLASS:PUBLIC
DTSTART:20260429T173000Z
DTEND:20260429T183000Z
DTSTAMP:20260422T185133Z
CREATED:20260315T180102Z
LAST-MODIFIED:20260331T160102Z
BEGIN:VALARM
UID:485D3748-3E7C-11F1-86A5-F4CB69372A87
TRIGGER:-PT60M
ACTION:DISPLAY
DESCRIPTION:SUMMARY:Gottesdienst
END:VALARM
END:VEVENT
END:VCALENDAR
